BEGIN:VCALENDAR
VERSION:2.0
PRODID:-//Squarespace Inc/Squarespace 6//v6//EN
BEGIN:VEVENT
UID:59af4fea59cc68c08ce2b771@squarespace.com
DTSTAMP:20170906T013157Z
DTSTART:20170922T020000Z
DTEND:20170922T030000Z
SUMMARY:Interschools Chess Tournament – Y3/4 and y5/6 Motupipi Hall
END:VEVENT
END:VCALENDAR
