BEGIN:VCALENDAR
VERSION:2.0
PRODID:-//Squarespace Inc/Squarespace 6//v6//EN
BEGIN:VEVENT
UID:59af4fd2c534a58c97c01e9e@squarespace.com
DTSTAMP:20170906T013115Z
DTSTART:20170920T020000Z
DTEND:20170920T030000Z
SUMMARY:Motupipi School Science Fair
END:VEVENT
END:VCALENDAR
