BEGIN:VCALENDAR
VERSION:2.0
PRODID:-//Squarespace Inc/Squarespace 6//v6//EN
BEGIN:VEVENT
UID:59af4fbb8fd4d234b55d7f10@squarespace.com
DTSTAMP:20170906T013050Z
DTSTART:20170913T020000Z
DTEND:20170913T030000Z
SUMMARY:School Assembly
END:VEVENT
END:VCALENDAR
