BEGIN:VCALENDAR
VERSION:2.0
PRODID:-//Squarespace Inc/Squarespace 6//v6//EN
BEGIN:VEVENT
UID:59af4d839f745650b3e13afc@squarespace.com
DTSTAMP:20170906T012202Z
DTSTART:20170911T013000Z
DTEND:20170911T023000Z
SUMMARY:Golf Coaching – Room 1/5
END:VEVENT
END:VCALENDAR
